BEGIN:VCALENDAR
VERSION:2.0
PRODID:-//Highlands Ranch Historical Society - ECPv6.15.17.1//NONSGML v1.0//EN
CALSCALE:GREGORIAN
METHOD:PUBLISH
X-WR-CALNAME:Highlands Ranch Historical Society
X-ORIGINAL-URL:https://thehrhs.org
X-WR-CALDESC:Events for Highlands Ranch Historical Society
REFRESH-INTERVAL;VALUE=DURATION:PT1H
X-Robots-Tag:noindex
X-PUBLISHED-TTL:PT1H
BEGIN:VTIMEZONE
TZID:America/Denver
BEGIN:DAYLIGHT
TZOFFSETFROM:-0700
TZOFFSETTO:-0600
TZNAME:MDT
DTSTART:20230312T090000
END:DAYLIGHT
BEGIN:STANDARD
TZOFFSETFROM:-0600
TZOFFSETTO:-0700
TZNAME:MST
DTSTART:20231105T080000
END:STANDARD
BEGIN:DAYLIGHT
TZOFFSETFROM:-0700
TZOFFSETTO:-0600
TZNAME:MDT
DTSTART:20240310T090000
END:DAYLIGHT
BEGIN:STANDARD
TZOFFSETFROM:-0600
TZOFFSETTO:-0700
TZNAME:MST
DTSTART:20241103T080000
END:STANDARD
BEGIN:DAYLIGHT
TZOFFSETFROM:-0700
TZOFFSETTO:-0600
TZNAME:MDT
DTSTART:20250309T090000
END:DAYLIGHT
BEGIN:STANDARD
TZOFFSETFROM:-0600
TZOFFSETTO:-0700
TZNAME:MST
DTSTART:20251102T080000
END:STANDARD
END:VTIMEZONE
BEGIN:VEVENT
DTSTART;TZID=America/Denver:20241002T170000
DTEND;TZID=America/Denver:20241002T190000
DTSTAMP:20260419T124830
CREATED:20240821T220218Z
LAST-MODIFIED:20240924T201226Z
UID:4001-1727888400-1727895600@thehrhs.org
SUMMARY:Membership Exclusive Event: Visit to Memory Lane
DESCRIPTION:Membership Exclusive Event at Memory Lane\nWEDNESDAY\nOctober 2\n Open 5-7 pm\nFree to current members and their guest\nCharter Financial Event Center\n9335 Commerce Center St. Unit B5\nHighlands Ranch 80129\n \nMemory Lane is a 10\,000 Sq foot facility dedicated to the amazing clients of Charter Financial Resources. Here at this faclity our guests take a walk down Memory Lane as they reminisce alongside restored cars from the 50’s and 60’s. Our class room is known as the Chevy Lounge where we educate and train our clients. The diner is home to our fan favorite ice cream sundaes. The Harley Lounge is a tribute to our motorcycle enthusiest\, and the HO Scale train set is sure to bring out the kid in everyone.\nEnjoy the Pizza Party\, with Pizza\, Salad\, Cookies and Beverages.\n \nHost for the event is the HRHS and Darren and Rick Martin\, CPA\, Charter Financial.\n \nSee photos from the 2023 Event       HERE\n\nDownload 2024  Registration Form HERE and Mail into the Historical Society \n  or REGISTER online  below\n\n\n\nFood and fun to say “thank you” to the fabulous HR Historical Society members!
URL:https://thehrhs.org/event/membership-thank-you-visit-to-memory-lane/
LOCATION:Charter Financial Resources\, 9335 Commerce Center St. Unit B5\, Highlands Ranch\, CO\, 80129
CATEGORIES:HRHS Happenings,Tour
ATTACH;FMTTYPE=image/png:https://thehrhs.org/wp-content/uploads/2023/09/logo_cfr_2018.png
ORGANIZER;CN="HRHS":MAILTO:programs@theHRHS.org
END:VEVENT
BEGIN:VEVENT
DTSTART;TZID=America/Denver:20241008T100000
DTEND;TZID=America/Denver:20241008T150000
DTSTAMP:20260419T124830
CREATED:20240821T151710Z
LAST-MODIFIED:20240821T151710Z
UID:3981-1728381600-1728399600@thehrhs.org
SUMMARY:Tour: Dinosaur Ridge and Red Rocks
DESCRIPTION:DINOSAUR RIDGE and RED ROCKS TOUR\n\nFollow in the footsteps of prehistoric creatures at Dinosaur Ridge\, via a\n60-minute guided personalized tour with bus transportation.\n \nAlso included Admission to the Exhibit Hall and Visitor Center. Professional guides interpret\nthe on-site dinosaur tracks and bone fossils\, local history\, and geology\, and will answer\nspecific questions and tailor their presentation to your interests.\n \nRed Rocks—enjoy a stop at Red Rocks  Amphitheatre\, where you can visit the\namphitheatre and the local exhibits.\n \nIncludes Box Lunch and Bus Transportation to Dinosaur Ridge and Red Rocks\n$55 HRHS Member                $60 non-Member\nDownload 2024  Registration Form HERE and Mail into the Historical Society  (must do if paying by CHECK) or pay online  below
URL:https://thehrhs.org/event/tour-dinosaur-ridge-and-red-rocks/
LOCATION:Dinosaur Ridge and Red Rocks\, Morrison\, CO
CATEGORIES:Tour
ATTACH;FMTTYPE=image/jpeg:https://thehrhs.org/wp-content/uploads/2024/08/IMG_3089-scaled.jpg
ORGANIZER;CN="HRHS":MAILTO:programs@theHRHS.org
END:VEVENT
BEGIN:VEVENT
DTSTART;TZID=America/Denver:20241010T103000
DTEND;TZID=America/Denver:20241010T143000
DTSTAMP:20260419T124830
CREATED:20240316T220531Z
LAST-MODIFIED:20240923T163950Z
UID:3481-1728556200-1728570600@thehrhs.org
SUMMARY:Denver Mob Tours--SOLD OUT
DESCRIPTION:2024 Thursdays —   October 10 IS SOLD OUT\n\n @ 10:45 am – 2:30 pm\n\n\n\n\nCost: $55 HRHS members         $60 Non- HRHS members\nSmall group  tour to 20 sites in Denver\, followed by lunch at Gaetano’s.\nMeet at Gaetano’s Restaurant where our Tour Leader Tom will pick us up\, and transport us to Denver’s North Side for a driving tour and narration of these sites and people. We finish our tour at Gaetano’s Restaurant\, which was owned by the Smaldone family.\nLunch is NOT included in the cost\, that is additional for each person.  Prix Fixed menu\, Red (spaghetti and Meatball) or White (fettuchini alfredo with chicken)\, soup or salad\, bread\, non-alcoholic beverage for about $25.  Tax and gratuities added on by the restaurant.  Alcoholic drinks or dessert are available for additional cost. Expect total cost to be approx. $30.\nDownload 2024  Registration Form HERE and Mail into the Historical Society  (must do if paying by CHECK) or pay online  below\n\n\nTransportation to Gaetano’s is on your own       Lunch is on your own\, approx. $30
URL:https://thehrhs.org/event/denver-mob-tours-2-2024-10-10/
LOCATION:Gaetano’s Restaurant\, 3760 Tejon St.\, Denver\, CO\, 80211
CATEGORIES:Tour
ATTACH;FMTTYPE=image/jpeg:https://thehrhs.org/wp-content/uploads/2023/06/Denver-Mob-Tour-Players_1.jpg
ORGANIZER;CN="HRHS":MAILTO:programs@theHRHS.org
END:VEVENT
BEGIN:VEVENT
DTSTART;TZID=America/Denver:20241021T190000
DTEND;TZID=America/Denver:20241021T203000
DTSTAMP:20260419T124830
CREATED:20240912T004137Z
LAST-MODIFIED:20240912T004509Z
UID:4013-1729537200-1729542600@thehrhs.org
SUMMARY:Program:  A Fun Evening with Erma Bombeck
DESCRIPTION:Monday\, October 21\, 2024\nDoors Open at 6:30 pm\nEnjoy complimentary refreshments and browse our partner tables before the program.\nProgram  7:00-8:30 pm\nSouthridge Recreation Center\n4800 McArthur Ranch Road\, Highlands Ranch\n$5 Donation Suggested at Door for non-HRHS members\n\nThree days a week in over 900 papers across the country\, Erma Bombeck’s column At Wit’s End captured the ups and downs of a new American phenomenon\, the suburban housewife.\nFiguring you had to be able to laugh at life to get through it\, Ms. Bomback brought to American awareness the struggles of women whose lives otherwise felt invisible and taken for granted. She let women across America know:\n“You are not alone. We number in the millions. I\, too\, am an American housewife\, and I will laugh by your side.”\n \nWe will find out how Erma got started as a humorist.  You will surely chuckle along as she pokes fun at kids\, husbands\, household appliances\, and especially herself.\nThis program includes a monologue in-character\, a Q&A “with Erma” and a Q&A with the scholar/presenter\, Susan Marie Frontczak.\nABOUT OUR PRESENTER:  SUSAN MARIE FRONTCZAK\nSusan Marie Frontczak has given over 875 Living History presentations as Marie Curie\, Mary Shelley\, Irene Castle\, Clara Barton\, Eleanor Roosevelt\, and Erma Bombeck across 43 of the United States. She also works with both students and adults to develop their own Living History presentations and is the author of the Young Chautauqua handbooks for Colorado Humanities.\n \nSusan Marie joins millions of Erma Bombeck fans in the U.S. and around the world in celebrating one of the 20th century’s most prolific writers and humorists. As a teen\, she competed with her mother to see which of them could snag the monthly Good Housekeeping magazine in order to be the first to read Erma Bombeck’s column.\nSusan Marie says the hardest part of presenting as Erma Bombeck is choosing what to include from a seemingly endless supply of priceless material. It is a puzzle she is glad to take on as none of her other characters have given her so much to laugh at along the way.
URL:https://thehrhs.org/event/program-a-fun-evening-with-erma-bombeck/
LOCATION:Southridge Recreation Center\, Upstairs Auditorium\, 4800 McArthur Ranch Road\, Highlands Ranch\, CO\, 80130\, United States
CATEGORIES:MEETING,Presentation
ATTACH;FMTTYPE=image/jpeg:https://thehrhs.org/wp-content/uploads/2024/09/Susan-Marie-Frontczak-as-ERMA-BOMBECK.jpg
ORGANIZER;CN="HRHS":MAILTO:programs@theHRHS.org
END:VEVENT
BEGIN:VEVENT
DTSTART;TZID=America/Denver:20241023T100000
DTEND;TZID=America/Denver:20241023T130000
DTSTAMP:20260419T124830
CREATED:20240821T145116Z
LAST-MODIFIED:20240821T145116Z
UID:3982-1729677600-1729688400@thehrhs.org
SUMMARY:Tour: Cherokee Castle Tour with Meg and John
DESCRIPTION:CHEROKEE CASTLE TOUR WITH MEG AND JOHN\nJoin us for this special\, private tour of the Cherokee Ranch Castle\, led by Tweet\nKimball’s caterer and butler\, Meg Anderson and John Lake.  Meg and John have tirelessly donated their time and their talents to both the Cherokee Castle and to the HRHS.  This is a rare opportunity to have time to chat with them and get their insights and memories of this beautiful venue.  Autumn is always a glorious time on the Cherokee grounds!\n\nGet the inside scoop on the Castle! View the beautiful antiques\, architecture\,\nand hear stories about Tweet and her escapades over the years.\nTransportation to Cherokee Castle is on your own.\n\nIncludes Box Lunch\n$40 HRHS Member       $45 non-Member\n  \nDownload 2024  Registration Form HERE and Mail into the Historical Society  (must do if paying by CHECK) or pay online  below
URL:https://thehrhs.org/event/tour-cherokee-castle-tour-with-meg-and-john/
LOCATION:Cherokee Castle\, 6113 N Daniels Park Rd\, Sedalia\, CO\, 80135\, United States
CATEGORIES:Tour
ATTACH;FMTTYPE=image/jpeg:https://thehrhs.org/wp-content/uploads/2022/05/IMG_1600-scaled.jpg
ORGANIZER;CN="HRHS":MAILTO:programs@theHRHS.org
END:VEVENT
END:VCALENDAR