BEGIN:VCALENDAR
VERSION:2.0
PRODID:-//Highlands Ranch Historical Society - ECPv6.15.20//NONSGML v1.0//EN
CALSCALE:GREGORIAN
METHOD:PUBLISH
X-WR-CALNAME:Highlands Ranch Historical Society
X-ORIGINAL-URL:https://thehrhs.org
X-WR-CALDESC:Events for Highlands Ranch Historical Society
REFRESH-INTERVAL;VALUE=DURATION:PT1H
X-Robots-Tag:noindex
X-PUBLISHED-TTL:PT1H
BEGIN:VTIMEZONE
TZID:America/Denver
BEGIN:DAYLIGHT
TZOFFSETFROM:-0700
TZOFFSETTO:-0600
TZNAME:MDT
DTSTART:20190310T090000
END:DAYLIGHT
BEGIN:STANDARD
TZOFFSETFROM:-0600
TZOFFSETTO:-0700
TZNAME:MST
DTSTART:20191103T080000
END:STANDARD
BEGIN:DAYLIGHT
TZOFFSETFROM:-0700
TZOFFSETTO:-0600
TZNAME:MDT
DTSTART:20200308T090000
END:DAYLIGHT
BEGIN:STANDARD
TZOFFSETFROM:-0600
TZOFFSETTO:-0700
TZNAME:MST
DTSTART:20201101T080000
END:STANDARD
BEGIN:DAYLIGHT
TZOFFSETFROM:-0700
TZOFFSETTO:-0600
TZNAME:MDT
DTSTART:20210314T090000
END:DAYLIGHT
BEGIN:STANDARD
TZOFFSETFROM:-0600
TZOFFSETTO:-0700
TZNAME:MST
DTSTART:20211107T080000
END:STANDARD
BEGIN:DAYLIGHT
TZOFFSETFROM:-0700
TZOFFSETTO:-0600
TZNAME:MDT
DTSTART:20220313T090000
END:DAYLIGHT
BEGIN:STANDARD
TZOFFSETFROM:-0600
TZOFFSETTO:-0700
TZNAME:MST
DTSTART:20221106T080000
END:STANDARD
END:VTIMEZONE
BEGIN:VEVENT
DTSTART;TZID=America/Denver:20211005T040000
DTEND;TZID=America/Denver:20211005T070000
DTSTAMP:20260425T094001
CREATED:20210813T090601Z
LAST-MODIFIED:20210813T090635Z
UID:556-1633406400-1633417200@thehrhs.org
SUMMARY:Fairmount Cemetery Tour
DESCRIPTION:Fairmount Cemetery in Denver\, Colorado\, was founded in 1890 and is Denver’s second oldest operating cemetery after Riverside Cemetery. It was designed by German landscape architect Reinhard Schuetze. The cemetery was patterned after Mount Auburn Cemetery in Boston. The cemetery is 280 acres. Following a walking tour of Millionaires Row\, and after listening to stories of the residents\, we will enjoy a lovely lunch in the Rose Garden (or inside if necessary) \n\nLunch Included\nHRHS Members $34    Non-Members $37
URL:https://thehrhs.org/event/fairmount-cemetery-tour/
LOCATION:Fairmount Cemetery\, 430 S Quebec St\, Denver\, CO\, 80247\, United States
CATEGORIES:Tour
ATTACH;FMTTYPE=image/jpeg:https://thehrhs.org/wp-content/uploads/2021/08/FAIRMOUNT.jpg
ORGANIZER;CN="HRHS":MAILTO:programs@theHRHS.org
END:VEVENT
BEGIN:VEVENT
DTSTART;TZID=America/Denver:20210915T040000
DTEND;TZID=America/Denver:20210815T070000
DTSTAMP:20260425T094001
CREATED:20210813T085015Z
LAST-MODIFIED:20210813T085015Z
UID:548-1631678400-1629010800@thehrhs.org
SUMMARY:Seven Stones Botanical Gardens Cemetery and Highline Canal Walk with the Audubon Society
DESCRIPTION:Seven Stones is a unique Botanical Garden Cemetery\, filled with beautiful art and stunning views of the foothills.   Combine that setting with the High Line Canal\, which is nearby\, and we will have a glorious day walking and admiring the physical and man-made beauty.  Becky from Seven Stones will be our hostess and provide an overview of Seven Stones.  Kate from the Audubon Society will lead us on a short High Line walk\, looking at the birds and the trees (and the flowers and the bees and the moon up above …..) \nHRHS Members $22     Non-Members $25
URL:https://thehrhs.org/event/seven-stones-botanical-gardens-cemetery-and-highline-canal-walk-with-the-audubon-society/
LOCATION:Seven Stones Botanical Gardens Cemetary\, 9635 North Rampart Range Road\, Littleton\, CO\, 80125\, United States
CATEGORIES:Tour
ATTACH;FMTTYPE=image/jpeg:https://thehrhs.org/wp-content/uploads/2021/08/Fall-e1508357266703.jpg
ORGANIZER;CN="HRHS":MAILTO:programs@theHRHS.org
END:VEVENT
BEGIN:VEVENT
DTSTART;TZID=America/Denver:20210911T030000
DTEND;TZID=America/Denver:20210911T060000
DTSTAMP:20260425T094001
CREATED:20210731T034447Z
LAST-MODIFIED:20210811T041014Z
UID:217-1631329200-1631340000@thehrhs.org
SUMMARY:Tour/Hike: Native American Culturally Modified Trees Hike
DESCRIPTION:John Anderson will lead this fascinating journey through Fox Run Regional Park in the Black Forest area. \nThis is a hike like no other\, Fox Run is a beautiful park\, you will be delighted with the setting. John Anderson’s facts and stories about the trees are enlightening.  Along the way\, the many and varied culturally modified trees will be visited\, and stories of the meaning and characteristics of the trees will be explored. \nNote: Participants will be walking off-trail\, over unpaved surfaces in the park. Bring a hiking stick and wear good closed-toed boots or shoes.  \nJohn will have his many books available for sale at the conclusion of the hike. \nRegister HERE Now! (Link is External) \nSpecific meeting location and information will be provided to Tour Registrants.\nFor more info just call Nancy or send an email!\n720-932-6990  Nancy@theHRHS.org
URL:https://thehrhs.org/event/tour-hike-native-american-culturally-modified-trees-hike/
LOCATION:Highlands Ranch Mansion\, 9950 E. Gateway Dr.\, Highlands Ranch\, CO\, 80126\, United States
CATEGORIES:Hike,Tour
ATTACH;FMTTYPE=image/jpeg:https://thehrhs.org/wp-content/uploads/2021/07/img_5838_3.jpg
ORGANIZER;CN="Nancy Linsenbigler":MAILTO:Nancy@theHRHS.org
END:VEVENT
BEGIN:VEVENT
DTSTART;TZID=America/Denver:20210825T040000
DTEND;TZID=America/Denver:20210825T070000
DTSTAMP:20260425T094001
CREATED:20210802T105813Z
LAST-MODIFIED:20210819T101614Z
UID:270-1629864000-1629874800@thehrhs.org
SUMMARY:First Responder Station Tour
DESCRIPTION:Go BEHIND the Doors\, and more importantly\,  Come Out!!   Fire and Sheriff Station Tour \nRare opportunity to see the INSIDE of the Fire Station and the Sheriff Sub-Station.  And More importantly\, we will be allowed to leave!! \n\n10 am Tour of the new Fire Station 20 on Wildcat Reserve\n11:15 am Tour of the Sheriff SubStation on Zotos Dr.\n12:15 pm Lunch included!\n\nGreat opportunity to explore behind the scenes at these two community First Responder Stations.   South Metro Fire Station 20 is brand new in 2021.  Douglas Co. Sheriff Substation is celebrating 10 years in HR.   Learn about the history and services trucks\, cars\, and more.
URL:https://thehrhs.org/event/first-responder-station-tour/
LOCATION:South Metro Fire Station 20\, 1801 E Wildcat Reserve Pkwy\, Highlands Ranch\, CO\, 80126\, United States
CATEGORIES:Tour
ATTACH;FMTTYPE=image/jpeg:https://thehrhs.org/wp-content/uploads/2021/07/south_metro_station_20.jpg
ORGANIZER;CN="HRHS":MAILTO:programs@theHRHS.org
END:VEVENT
BEGIN:VEVENT
DTSTART;TZID=America/Denver:20210817T040000
DTEND;TZID=America/Denver:20210817T070000
DTSTAMP:20260425T094001
CREATED:20210802T104405Z
LAST-MODIFIED:20210802T104405Z
UID:264-1629172800-1629183600@thehrhs.org
SUMMARY:Cherokee Castle Tour with Meg and John
DESCRIPTION:Meg Anderson and John Lake once again take us on a journey through the exquisite Cherokee Castle. Meg\, former Caterer to Tweet Kimble\, and John\, Tweet’s former Butler and Many of Many Hats\, will enchant and delight as they share insider information on Tweet\, the Castle then and now.  We will tour the Castle main level and upstairs\, learning about the beautiful artifacts\, building\, and activities.  Following this special tour\, we are welcome to bring our own lunch\, and enjoy it on the Castle grounds. This is an annual delight\, and this tour always sells out!
URL:https://thehrhs.org/event/cherokee-castle-tour-with-meg-and-john/
LOCATION:Cherokee Castle\, 6113 N Daniels Park Rd\, Sedalia\, CO\, 80135\, United States
CATEGORIES:Tour
ATTACH;FMTTYPE=image/jpeg:https://thehrhs.org/wp-content/uploads/2021/08/7F2DAE96-E07E-3912-FE5B17B7C402D120.jpg
ORGANIZER;CN="HRHS":MAILTO:programs@theHRHS.org
END:VEVENT
BEGIN:VEVENT
DTSTART;TZID=America/Denver:20210816T130000
DTEND;TZID=America/Denver:20210816T143000
DTSTAMP:20260425T094001
CREATED:20210731T033251Z
LAST-MODIFIED:20210731T033500Z
UID:209-1629118800-1629124200@thehrhs.org
SUMMARY:Law Enforcement and Fire Services in Highlands Ranch
DESCRIPTION:The History\, Then and Now of Law Enforcement and Fire Services in Highlands Ranch will be presented by representatives from both entities. What are the past and current challenges\, highlights of services\, and needs in Highlands Ranch? \nPresenters: \n \nDouglas County Undersheriff Dave Walcher and Deputies \n \nSouth Metro Fire Department Eric Hurst\, Public Information Officer and Einar Jensen\, Risk Reduction Specialist \n \n \nNOTE:  Program location is the Highlands Ranch Southridge Auditorium\, in person\, LIVE!!
URL:https://thehrhs.org/event/law-enforcement-and-fire-services-in-highlands-ranch/
LOCATION:Southridge Recreation Center\, Upstairs Auditorium\, 4800 McArthur Ranch Road\, Highlands Ranch\, CO\, 80130\, United States
ATTACH;FMTTYPE=image/jpeg:https://thehrhs.org/wp-content/uploads/2021/07/south_metro_station_20.jpg
ORGANIZER;CN="HRHS":MAILTO:programs@theHRHS.org
END:VEVENT
BEGIN:VEVENT
DTSTART;TZID=America/Denver:20200217T000000
DTEND;TZID=America/Denver:20200217T133000
DTSTAMP:20260425T094001
CREATED:20210806T104823Z
LAST-MODIFIED:20210813T091955Z
UID:473-1581897600-1581946200@thehrhs.org
SUMMARY:Abraham Lincoln Will Speak on his Presidency and the Presidents Preceding Him
DESCRIPTION:Presenter and Historian John Voehl as President Lincoln \nLincoln talks through the 15 Presidents that preceded him\, describing their importance and own his connections with them.   He also provides the highlights of his own 16th Presidency\, including the Civil War\, emancipation and Gettysburg Address. \n\nAbout John Voehl: \n\nJohn Voehl is a nationally recognized Abraham Lincoln Presenter and Historian based in Littleton\, having shared over 1\,425 living history experiences in 45-states\, including over 130 libraries and museums. \nHe’s a Life Member of the Association of Lincoln Presenters\, Charter Member of the Victorian Society of Colorado and Lincoln Chautauqua Speaker for the Colorado Endowment for the Humanities.
URL:https://thehrhs.org/event/abraham-lincoln-will-speak-on-his-presidency-and-the-presidents-preceding-him/
LOCATION:Southridge Recreation Center\, Upstairs Auditorium\, 4800 McArthur Ranch Road\, Highlands Ranch\, CO\, 80130\, United States
CATEGORIES:Presentation
ATTACH;FMTTYPE=image/jpeg:https://thehrhs.org/wp-content/uploads/2021/08/2011-spring-lincoln-in-la.jpg
ORGANIZER;CN="HRHS":MAILTO:programs@theHRHS.org
END:VEVENT
END:VCALENDAR