BEGIN:VCALENDAR
VERSION:2.0
PRODID:-//Highlands Ranch Historical Society - ECPv6.15.17.1//NONSGML v1.0//EN
CALSCALE:GREGORIAN
METHOD:PUBLISH
X-ORIGINAL-URL:https://thehrhs.org
X-WR-CALDESC:Events for Highlands Ranch Historical Society
REFRESH-INTERVAL;VALUE=DURATION:PT1H
X-Robots-Tag:noindex
X-PUBLISHED-TTL:PT1H
BEGIN:VTIMEZONE
TZID:America/Denver
BEGIN:DAYLIGHT
TZOFFSETFROM:-0700
TZOFFSETTO:-0600
TZNAME:MDT
DTSTART:20230312T090000
END:DAYLIGHT
BEGIN:STANDARD
TZOFFSETFROM:-0600
TZOFFSETTO:-0700
TZNAME:MST
DTSTART:20231105T080000
END:STANDARD
BEGIN:DAYLIGHT
TZOFFSETFROM:-0700
TZOFFSETTO:-0600
TZNAME:MDT
DTSTART:20240310T090000
END:DAYLIGHT
BEGIN:STANDARD
TZOFFSETFROM:-0600
TZOFFSETTO:-0700
TZNAME:MST
DTSTART:20241103T080000
END:STANDARD
BEGIN:DAYLIGHT
TZOFFSETFROM:-0700
TZOFFSETTO:-0600
TZNAME:MDT
DTSTART:20250309T090000
END:DAYLIGHT
BEGIN:STANDARD
TZOFFSETFROM:-0600
TZOFFSETTO:-0700
TZNAME:MST
DTSTART:20251102T080000
END:STANDARD
END:VTIMEZONE
BEGIN:VEVENT
DTSTART;TZID=America/Denver:20240916T190000
DTEND;TZID=America/Denver:20240916T203000
DTSTAMP:20260419T161202
CREATED:20240710T003647Z
LAST-MODIFIED:20240905T165218Z
UID:3921-1726513200-1726518600@thehrhs.org
SUMMARY:Program: Rick Crandall and the Colorado Freedom Memorial --25 Years in the Making and More to Come
DESCRIPTION:Monday\, September 16\, 2024\nDoors Open at 6:30 pm\nEnjoy complimentary refreshments and browse our partner tables before the program.\nProgram  7:00-8:30 pm\nSouthridge Recreation Center\n4800 McArthur Ranch Road\, Highlands Ranch\n$5 Donation Suggested at Door for non-HRHS members\n \nOn May 30\, 2000\, Rick Crandall broadcast his morning radio show from the American Cemetery above Omaha Beach in Normandy\, France. After the four-hour program the equipment was packed up and the thank-yous were shared and then Rick took one last walk through the cemetery not realizing he would be carrying something home with him and it was something he couldn’t shake. \nFor the last 25 years the Colorado Freedom Memorial and Rick Crandall have been synonymous. What started as an idea after a radio broadcast from France has become one of the most unique military memorials in the country\, and it’s about to get bigger!    \n \nThis is the first memorial in America dedicated to ALL wars\, ALL branches of service and containing the names of all those who died from a single state in those wars.\n \nThe Colorado Freedom Memorial is located in Aurora\, Colorado near Buckley Air Force Base. Constructed of glass panels that reflect Colorado’s mountains and blue skies the Memorial holds the names of over 6\,000 Coloradans killed or missing in action. They are grouped by war\, but names will not be alphabetically listed. Much of the Colorado Freedom Memorial is meant to reflect the chaos of war\, including the shuffling of names. \n \nPRESENTER: RICK CRANDALL \n \nFor 30 years Rick was the host of the Breakfast Club on AM 1430\, KEZW and during that time built a close relationship with the veteran community. In 2012 Rick was named the Colorado Broadcaster of the Year for his work on the air and with numerous nonprofit organizations. It is\, though\, the Colorado Freedom Memorial that is closest to his heart.   \n  PARTNER TABLES AND EVENTS\n \nChristopher M. Falkel  American Legion Post 1260 Will be on hand to Present and Retire the Colors.  Post Commander Joe Langran will  give a brief update on the name change of the Highlands Ranch Post to the Christopher M. Falkel American Legion Post 1260.  \nThere will also be a table with information about the Highlands Ranch Veterans Monument.
URL:https://thehrhs.org/event/program-rick-crandall-and-the-colorado-freedom-memorial/
LOCATION:Southridge Recreation Center\, Upstairs Auditorium\, 4800 McArthur Ranch Road\, Highlands Ranch\, CO\, 80130\, United States
CATEGORIES:Presentation
ATTACH;FMTTYPE=image/png:https://thehrhs.org/wp-content/uploads/2024/07/cfm-logo.png
ORGANIZER;CN="HRHS":MAILTO:programs@theHRHS.org
END:VEVENT
END:VCALENDAR