BEGIN:VCALENDAR
VERSION:2.0
PRODID:-//Highlands Ranch Historical Society - ECPv6.15.20//NONSGML v1.0//EN
CALSCALE:GREGORIAN
METHOD:PUBLISH
X-ORIGINAL-URL:https://thehrhs.org
X-WR-CALDESC:Events for Highlands Ranch Historical Society
REFRESH-INTERVAL;VALUE=DURATION:PT1H
X-Robots-Tag:noindex
X-PUBLISHED-TTL:PT1H
BEGIN:VTIMEZONE
TZID:America/Denver
BEGIN:DAYLIGHT
TZOFFSETFROM:-0700
TZOFFSETTO:-0600
TZNAME:MDT
DTSTART:20230312T090000
END:DAYLIGHT
BEGIN:STANDARD
TZOFFSETFROM:-0600
TZOFFSETTO:-0700
TZNAME:MST
DTSTART:20231105T080000
END:STANDARD
BEGIN:DAYLIGHT
TZOFFSETFROM:-0700
TZOFFSETTO:-0600
TZNAME:MDT
DTSTART:20240310T090000
END:DAYLIGHT
BEGIN:STANDARD
TZOFFSETFROM:-0600
TZOFFSETTO:-0700
TZNAME:MST
DTSTART:20241103T080000
END:STANDARD
BEGIN:DAYLIGHT
TZOFFSETFROM:-0700
TZOFFSETTO:-0600
TZNAME:MDT
DTSTART:20250309T090000
END:DAYLIGHT
BEGIN:STANDARD
TZOFFSETFROM:-0600
TZOFFSETTO:-0700
TZNAME:MST
DTSTART:20251102T080000
END:STANDARD
END:VTIMEZONE
BEGIN:VEVENT
DTSTART;TZID=America/Denver:20240912T103000
DTEND;TZID=America/Denver:20240912T143000
DTSTAMP:20260422T072208
CREATED:20240316T220531Z
LAST-MODIFIED:20240923T163950Z
UID:3480-1726137000-1726151400@thehrhs.org
SUMMARY:Denver Mob Tours--SOLD OUT
DESCRIPTION:2024 Thursdays —   October 10 IS SOLD OUT\n\n @ 10:45 am – 2:30 pm\n\n\n\n\nCost: $55 HRHS members         $60 Non- HRHS members\nSmall group  tour to 20 sites in Denver\, followed by lunch at Gaetano’s.\nMeet at Gaetano’s Restaurant where our Tour Leader Tom will pick us up\, and transport us to Denver’s North Side for a driving tour and narration of these sites and people. We finish our tour at Gaetano’s Restaurant\, which was owned by the Smaldone family.\nLunch is NOT included in the cost\, that is additional for each person.  Prix Fixed menu\, Red (spaghetti and Meatball) or White (fettuchini alfredo with chicken)\, soup or salad\, bread\, non-alcoholic beverage for about $25.  Tax and gratuities added on by the restaurant.  Alcoholic drinks or dessert are available for additional cost. Expect total cost to be approx. $30.\nDownload 2024  Registration Form HERE and Mail into the Historical Society  (must do if paying by CHECK) or pay online  below\n\n\nTransportation to Gaetano’s is on your own       Lunch is on your own\, approx. $30
URL:https://thehrhs.org/event/denver-mob-tours-2-2024-09-12/
LOCATION:Gaetano’s Restaurant\, 3760 Tejon St.\, Denver\, CO\, 80211
CATEGORIES:Tour
ATTACH;FMTTYPE=image/jpeg:https://thehrhs.org/wp-content/uploads/2023/06/Denver-Mob-Tour-Players_1.jpg
ORGANIZER;CN="HRHS":MAILTO:programs@theHRHS.org
END:VEVENT
BEGIN:VEVENT
DTSTART;TZID=America/Denver:20240912T163000
DTEND;TZID=America/Denver:20240912T213000
DTSTAMP:20260422T072208
CREATED:20240819T224947Z
LAST-MODIFIED:20240821T223604Z
UID:3957-1726158600-1726176600@thehrhs.org
SUMMARY:Tour: Flying W. Ranch Chuckwagon Dinner and Western Stage Show
DESCRIPTION:Flying W Ranch Chuckwagon Dinner and Original Western Stage Show\nThursday Sep 12\, 2024 ~ 4:30p-9:30p  \nIncludes dinner\, show\, and bus transportation to and from Colorado Springs. \n \nA delicious western Chuck wagon spread reminiscent of the hearty meals that “Cookie” served the cowboys on the trail. For over 70 years\, the Flying W Ranch has been the home of the only chuck wagon Supper Show in Colorado Springs. Featuring a rousing Western stage show and a classic American chuck wagon meal\, the chuck wagon Supper and Original Western Stage Show at the Flying W Ranch are guaranteed to please audiences of all ages.\n$75 MEMBERS\n$80 NON-MEMBERS\nDownload 2024  Registration Form HERE and Mail into the Historical Society  (must do if paying by CHECK) or pay online  below
URL:https://thehrhs.org/event/tour-flying-w-ranch-chuckwagon-dinner-and-western-stage-show/
LOCATION:FLYING W RANCH\, Colorado Springs
CATEGORIES:Tour
ATTACH;FMTTYPE=image/png:https://thehrhs.org/wp-content/uploads/2024/08/Screenshot-2024-08-19-164417.png
ORGANIZER;CN="HRHS":MAILTO:programs@theHRHS.org
END:VEVENT
END:VCALENDAR